BEGIN:VCALENDAR
VERSION:2.0
PRODID:-//eventon.com NONSGML v1.0//EN
CALSCALE:GREGORIAN
METHOD:PUBLISH
BEGIN:VEVENT
UID:69e7507007c97
DTSTAMP:20260421T102448Z
DTSTART:20241001T101500Z
DTEND:20241001T163000Z
LOCATION:Universität Augsburg Universitätsstr. 16\,  86159 Augsburg
SUMMARY:4. Augsburger Marketing Tag: ZUKUNFT DER MARKE
DESCRIPTION:Was ist die Zukunft der Marke? Was treibt den Markenwert und da
 s Markenwachstum an? Wie können Unternehmen effektive Markenstrategien ent
 wickeln und ihren Erfolg messbar machen? Welche Rolle spielen Purpose und K
 ünstliche Intelligenz im modernen Markenmanagement? Welche Best Practices 
 setzen sich national und international durch? Wir laden Sie herzlich zum 4.
 [..]\nhttps://www.marketingclub-augsburg.de/events/4-augsburger-marketing-t
 ag-zukunft-der-marke/
URL:https://www.marketingclub-augsburg.de/events/4-augsburger-marketing-tag-zukunft-der-marke/
END:VEVENT
END:VCALENDAR