BEGIN:VCALENDAR
VERSION:2.0
PRODID:-//eventon.com NONSGML v1.0//EN
CALSCALE:GREGORIAN
METHOD:PUBLISH
BEGIN:VEVENT
UID:69e652d485b71
DTSTAMP:20260420T162244Z
DTSTART:20250318T180000Z
DTEND:20250318T210000Z
LOCATION:WMM Modulbau Leitschäcker 3-5
SUMMARY:WMM GmbH - in 4 Wochen zum fertigen Mehrfamilienhaus
DESCRIPTION:1.000 m² Wohnfläche in 10 Arbeitstagen oder in 4 Wochen zum f
 ertigen Mehrfamilienhaus Eine Wohnanlage in 10 Tagen? Ein Hotel in einer Wo
 che – und dann noch alles in massivem Ziegel? Die Zukunft des Bauens ist 
 modular – idealerweise in Ziegel-Massivbauweise. Die WMM Group und WMM Mo
 dulbau verbinden die Vorteile[..]\nhttps://www.marketingclub-augsburg.de/ev
 ents/wmm-ag-in-4-wochen-zum-fertigen-mehrfamilienhaus/
URL:https://www.marketingclub-augsburg.de/events/wmm-ag-in-4-wochen-zum-fertigen-mehrfamilienhaus/
END:VEVENT
END:VCALENDAR